BEGIN:VCALENDAR
VERSION:2.0
BEGIN:VEVENT
DTSTART;TZID=Europe/Stockholm:20240614T180000
DTEND;TZID=Europe/Stockholm:20240614T190000
DTSTAMP:20260421T080644
DESCRIPTION:
SEQUENCE:0
SUMMARY:Bibelstudium med tonår
UID:7333@lawebb.se
END:VEVENT
END:VCALENDAR