BEGIN:VCALENDAR
VERSION:2.0
BEGIN:VEVENT
DTSTART;TZID=Europe/Stockholm:20240619T193000
DTEND;TZID=Europe/Stockholm:20240619T203000
DTSTAMP:20260421T081105
DESCRIPTION:Öppen kyrka från kl 18
SEQUENCE:0
SUMMARY:Bön i kyrkan
UID:5775@lawebb.se
END:VEVENT
END:VCALENDAR