BEGIN:VCALENDAR
VERSION:2.0
BEGIN:VEVENT
DTSTART;TZID=Europe/Stockholm:20240623T160000
DTEND;TZID=Europe/Stockholm:20240623T170000
DTSTAMP:20260421T080639
DESCRIPTION:Predikan: 
Sång & Musik: 
Information:
SEQUENCE:0
SUMMARY:Gudstjänst med Söndagsskola
UID:5857@lawebb.se
END:VEVENT
END:VCALENDAR