BEGIN:VCALENDAR
VERSION:2.0
BEGIN:VEVENT
DTSTART;TZID=Europe/Stockholm:20240626T193000
DTEND;TZID=Europe/Stockholm:20240626T203000
DTSTAMP:20260421T080411
DESCRIPTION:Öppen kyrka från kl 18
SEQUENCE:0
SUMMARY:Bön i kyrkan
UID:3237@lawebb.se
END:VEVENT
END:VCALENDAR