BEGIN:VCALENDAR
VERSION:2.0
BEGIN:VEVENT
DTSTART;TZID=Europe/Stockholm:20240630T160000
DTEND;TZID=Europe/Stockholm:20240630T170000
DTSTAMP:20260421T081235
DESCRIPTION:Predikan: 
Sång & Musik: 
Information:
SEQUENCE:0
SUMMARY:Gudstjänst med Söndagsskola
UID:4698@lawebb.se
END:VEVENT
END:VCALENDAR