BEGIN:VCALENDAR
VERSION:2.0
BEGIN:VEVENT
DTSTART;TZID=Europe/Stockholm:20250201T100000
DTEND;TZID=Europe/Stockholm:20250201T110000
DTSTAMP:20260420T111901
DESCRIPTION:
SEQUENCE:0
SUMMARY:Bibelstudium
UID:9693@lawebb.se
END:VEVENT
END:VCALENDAR