BEGIN:VCALENDAR
VERSION:2.0
BEGIN:VEVENT
DTSTART;TZID=Europe/Stockholm:20250202T160000
DTEND;TZID=Europe/Stockholm:20250202T170000
DTSTAMP:20260420T112402
DESCRIPTION:Extra insamling till Missionen
Söndagsskola
Parentation
Predikan: Martin Hårsmar
Sång & Musik: Team Öhrman
Information: Tove Öhrman
SEQUENCE:0
SUMMARY:Gudstjänst med Nattvard
UID:9425@lawebb.se
END:VEVENT
END:VCALENDAR