BEGIN:VCALENDAR
VERSION:2.0
BEGIN:VEVENT
DTSTART;TZID=Europe/Stockholm:20250205T180000
DTEND;TZID=Europe/Stockholm:20250205T190000
DTSTAMP:20260420T112024
DESCRIPTION:Öppen kyrka ikväll kl 18-20:30!
Bönesamling från 19:30.

Våldet i vårt samhälle skakar om oss alla,
gårdagens skjutning i Örebro är så fruktansvärd.
Det är svårt att finna ord för det.

Baptistkyrkan på Ekeby, i korsningen 
Selma Lagerlöfsväg och Ingemarsvägen, 
håller öppet ikväll kl 18-20:30.

Välkommen in i värmen!
Det finns möjlighet till ljuständning, stillhet, samtal och bön i kyrkorummet!

Välkommen till Baptistkyrkan!
SEQUENCE:0
SUMMARY:Öppen kyrka!
UID:7324@lawebb.se
END:VEVENT
END:VCALENDAR