BEGIN:VCALENDAR
VERSION:2.0
BEGIN:VEVENT
DTSTART;TZID=Europe/Stockholm:20250208T100000
DTEND;TZID=Europe/Stockholm:20250208T110000
DTSTAMP:20260420T111726
DESCRIPTION:
SEQUENCE:0
SUMMARY:Bibelstudium
UID:5694@lawebb.se
END:VEVENT
END:VCALENDAR