BEGIN:VCALENDAR
VERSION:2.0
BEGIN:VEVENT
DTSTART;TZID=Europe/Stockholm:20250209T160000
DTEND;TZID=Europe/Stockholm:20250209T170000
DTSTAMP:20260420T112546
DESCRIPTION:Predikan: Sara Eklind
Sång & Musik: Team Forsling
Information: Stanley Eklind
Kyrkfika
SEQUENCE:0
SUMMARY:Gudstjänst med Söndagsskola
UID:6737@lawebb.se
END:VEVENT
END:VCALENDAR