BEGIN:VCALENDAR
VERSION:2.0
BEGIN:VEVENT
DTSTART;TZID=Europe/Stockholm:20250216T160000
DTEND;TZID=Europe/Stockholm:20250216T170000
DTSTAMP:20260420T110310
DESCRIPTION:Predikan: Rickard Einefors
Sång & Musik: Team Borg
Information: Jonas Berntsson
SEQUENCE:0
SUMMARY:Gudstjänst
UID:4233@lawebb.se
END:VEVENT
END:VCALENDAR