BEGIN:VCALENDAR
VERSION:2.0
BEGIN:VEVENT
DTSTART;TZID=Europe/Stockholm:20250219T193000
DTEND;TZID=Europe/Stockholm:20250219T203000
DTSTAMP:20260420T111717
DESCRIPTION:Öppen kyrka från kl 18
SEQUENCE:0
SUMMARY:Bön i kyrkan
UID:8755@lawebb.se
END:VEVENT
END:VCALENDAR