BEGIN:VCALENDAR
VERSION:2.0
BEGIN:VEVENT
DTSTART;TZID=Europe/Stockholm:20250225T190000
DTEND;TZID=Europe/Stockholm:20250225T200000
DTSTAMP:20260420T111348
DESCRIPTION:Ekumenisk samling
SEQUENCE:0
SUMMARY:Bön & Lovsång i Pingstkyrkan
UID:5553@lawebb.se
END:VEVENT
END:VCALENDAR