BEGIN:VCALENDAR
VERSION:2.0
BEGIN:VEVENT
DTSTART;TZID=Europe/Stockholm:20250228T180000
DTEND;TZID=Europe/Stockholm:20250228T190000
DTSTAMP:20260420T110602
DESCRIPTION:
SEQUENCE:0
SUMMARY:Bibelstudium med tonår
UID:6468@lawebb.se
END:VEVENT
END:VCALENDAR