BEGIN:VCALENDAR
VERSION:2.0
BEGIN:VEVENT
DTSTART;TZID=Europe/Stockholm:20250302T160000
DTEND;TZID=Europe/Stockholm:20250302T170000
DTSTAMP:20260420T123704
DESCRIPTION:Extra insamling till Sociala kassan
Dop
Söndagsskola
Predikan: Peter Nilsson
Sång & Musik: Maria Hårsmar 
Information: Stanley Eklind
SEQUENCE:0
SUMMARY:Gudstjänst med Nattvard
UID:8529@lawebb.se
END:VEVENT
END:VCALENDAR