BEGIN:VCALENDAR
VERSION:2.0
BEGIN:VEVENT
DTSTART;TZID=Europe/Stockholm:20250304T190000
DTEND;TZID=Europe/Stockholm:20250304T200000
DTSTAMP:20260420T123637
DESCRIPTION:
SEQUENCE:0
SUMMARY:Styrelsemöte
UID:3948@lawebb.se
END:VEVENT
END:VCALENDAR