BEGIN:VCALENDAR
VERSION:2.0
BEGIN:VEVENT
DTSTART;TZID=Europe/Stockholm:20250305T090000
DTEND;TZID=Europe/Stockholm:20250305T100000
DTSTAMP:20260420T123935
DESCRIPTION:
SEQUENCE:0
SUMMARY:Öppet hus 9-12
UID:7275@lawebb.se
END:VEVENT
END:VCALENDAR