BEGIN:VCALENDAR
VERSION:2.0
BEGIN:VEVENT
DTSTART;TZID=Europe/Stockholm:20250307T180000
DTEND;TZID=Europe/Stockholm:20250307T190000
DTSTAMP:20260420T123709
DESCRIPTION:
SEQUENCE:0
SUMMARY:Bibelstudium med tonår
UID:7792@lawebb.se
END:VEVENT
END:VCALENDAR