BEGIN:VCALENDAR
VERSION:2.0
BEGIN:VEVENT
DTSTART;TZID=Europe/Stockholm:20250309T160000
DTEND;TZID=Europe/Stockholm:20250309T170000
DTSTAMP:20260420T124701
DESCRIPTION:Open doors besöker, insamling till deras arbete
Predikan: Anders Sundström 
Sång & Musik: Team Forsling
Ledning: Martin Hårsmar
SEQUENCE:0
SUMMARY:Gudstjänst med Söndagsskola
UID:6853@lawebb.se
END:VEVENT
END:VCALENDAR