BEGIN:VCALENDAR
VERSION:2.0
BEGIN:VEVENT
DTSTART;TZID=Europe/Stockholm:20250311T190000
DTEND;TZID=Europe/Stockholm:20250311T200000
DTSTAMP:20260420T123826
DESCRIPTION:
SEQUENCE:0
SUMMARY:Församlingsråd
UID:3845@lawebb.se
END:VEVENT
END:VCALENDAR