BEGIN:VCALENDAR
VERSION:2.0
BEGIN:VEVENT
DTSTART;TZID=Europe/Stockholm:20250314T190000
DTEND;TZID=Europe/Stockholm:20250314T200000
DTSTAMP:20260420T124454
DESCRIPTION:
SEQUENCE:0
SUMMARY:Tonår
UID:3764@lawebb.se
END:VEVENT
END:VCALENDAR