BEGIN:VCALENDAR
VERSION:2.0
BEGIN:VEVENT
DTSTART;TZID=Europe/Stockholm:20250315T100000
DTEND;TZID=Europe/Stockholm:20250315T110000
DTSTAMP:20260420T124415
DESCRIPTION:
SEQUENCE:0
SUMMARY:Bibelstudium
UID:7653@lawebb.se
END:VEVENT
END:VCALENDAR