BEGIN:VCALENDAR
VERSION:2.0
BEGIN:VEVENT
DTSTART;TZID=Europe/Stockholm:20250316T160000
DTEND;TZID=Europe/Stockholm:20250316T170000
DTSTAMP:20260420T124136
DESCRIPTION:Predikan: Christine Beckman
Sång & Musik: Team Öhrman
Information: Tove Öhrman
SEQUENCE:0
SUMMARY:Gudstjänst med Söndagsskola
UID:5384@lawebb.se
END:VEVENT
END:VCALENDAR