BEGIN:VCALENDAR
VERSION:2.0
BEGIN:VEVENT
DTSTART;TZID=Europe/Stockholm:20250319T193000
DTEND;TZID=Europe/Stockholm:20250319T203000
DTSTAMP:20260420T124129
DESCRIPTION:Öppen kyrka från kl 18
SEQUENCE:0
SUMMARY:Bön i kyrkan
UID:8952@lawebb.se
END:VEVENT
END:VCALENDAR