BEGIN:VCALENDAR
VERSION:2.0
BEGIN:VEVENT
DTSTART;TZID=Europe/Stockholm:20250322T100000
DTEND;TZID=Europe/Stockholm:20250322T110000
DTSTAMP:20260420T124130
DESCRIPTION:
SEQUENCE:0
SUMMARY:Bibelstudium
UID:7339@lawebb.se
END:VEVENT
END:VCALENDAR