BEGIN:VCALENDAR
VERSION:2.0
BEGIN:VEVENT
DTSTART;TZID=Europe/Stockholm:20250323T160000
DTEND;TZID=Europe/Stockholm:20250323T170000
DTSTAMP:20260420T124135
DESCRIPTION:Predikan: Martin Hårsmar 
Sång & Musik: Maria Hårsmar
Information: Martin Hårsmar
SEQUENCE:0
SUMMARY:Gudstjänst med Söndagsskola
UID:5923@lawebb.se
END:VEVENT
END:VCALENDAR