BEGIN:VCALENDAR
VERSION:2.0
BEGIN:VEVENT
DTSTART;TZID=Europe/Stockholm:20250325T190000
DTEND;TZID=Europe/Stockholm:20250325T200000
DTSTAMP:20260420T124003
DESCRIPTION:
SEQUENCE:0
SUMMARY:Bön & Lovsång i Pingstkyrkan
UID:7833@lawebb.se
END:VEVENT
END:VCALENDAR