BEGIN:VCALENDAR
VERSION:2.0
BEGIN:VEVENT
DTSTART;TZID=Europe/Stockholm:20250326T193000
DTEND;TZID=Europe/Stockholm:20250326T203000
DTSTAMP:20260420T124252
DESCRIPTION:Öppen kyrka från kl 18
SEQUENCE:0
SUMMARY:Bön i kyrkan
UID:9226@lawebb.se
END:VEVENT
END:VCALENDAR