BEGIN:VCALENDAR
VERSION:2.0
BEGIN:VEVENT
DTSTART;TZID=Europe/Stockholm:20250327T190000
DTEND;TZID=Europe/Stockholm:20250327T200000
DTSTAMP:20260420T124631
DESCRIPTION:Inför Påskantaten på påskdagen
SEQUENCE:0
SUMMARY:Körövning i Baptistkyrkan
UID:8536@lawebb.se
END:VEVENT
END:VCALENDAR