BEGIN:VCALENDAR
VERSION:2.0
BEGIN:VEVENT
DTSTART;TZID=Europe/Stockholm:20250329T170000
DTEND;TZID=Europe/Stockholm:20250329T180000
DTSTAMP:20260420T124712
DESCRIPTION:Ekumenisk Musikgudstjänst
Stor seniorkör från Örebro
Servering
SEQUENCE:0
SUMMARY:Korsbandet i Baptistkyrkan
UID:9785@lawebb.se
END:VEVENT
END:VCALENDAR