BEGIN:VCALENDAR
VERSION:2.0
BEGIN:VEVENT
DTSTART;TZID=Europe/Stockholm:20250330T160000
DTEND;TZID=Europe/Stockholm:20250330T170000
DTSTAMP:20260420T123826
DESCRIPTION:Predikan: Johan Öhrvall
Sång & Musik: Team Borg
Information: Rebecca Borg
Kyrkfika
SEQUENCE:0
SUMMARY:Gudstjänst med Söndagsskola
UID:8739@lawebb.se
END:VEVENT
END:VCALENDAR