BEGIN:VCALENDAR
VERSION:2.0
BEGIN:VEVENT
DTSTART;TZID=Europe/Stockholm:20250403T190000
DTEND;TZID=Europe/Stockholm:20250403T200000
DTSTAMP:20260420T144559
DESCRIPTION:Inför Påskkantaten på påskdagen
SEQUENCE:0
SUMMARY:Körövning i Pingstkyrkan
UID:9288@lawebb.se
END:VEVENT
END:VCALENDAR