BEGIN:VCALENDAR
VERSION:2.0
BEGIN:VEVENT
DTSTART;TZID=Europe/Stockholm:20250405T160000
DTEND;TZID=Europe/Stockholm:20250405T170000
DTSTAMP:20260420T144513
DESCRIPTION:Servering
SEQUENCE:0
SUMMARY:Årsmöte, Lovsång och Nattvard
UID:7236@lawebb.se
END:VEVENT
END:VCALENDAR