BEGIN:VCALENDAR
VERSION:2.0
BEGIN:VEVENT
DTSTART;TZID=Europe/Stockholm:20250406T160000
DTEND;TZID=Europe/Stockholm:20250406T170000
DTSTAMP:20260420T143735
DESCRIPTION:Sång & Musik: Kristoffer & Jenny  Nyqvist-Streng med Stefan Jansson vid flygeln.
Ledning: Stanley Eklind
Fri entré - Insamling
Kyrkfika
SEQUENCE:0
SUMMARY:Musikgudstjänst
UID:8474@lawebb.se
END:VEVENT
END:VCALENDAR