BEGIN:VCALENDAR
VERSION:2.0
BEGIN:VEVENT
DTSTART;TZID=Europe/Stockholm:20250410T190000
DTEND;TZID=Europe/Stockholm:20250410T200000
DTSTAMP:20260420T144307
DESCRIPTION:Inför Påskkantaten på påskdagen.
SEQUENCE:0
SUMMARY:Körövning i Rävåskyrkan
UID:9965@lawebb.se
END:VEVENT
END:VCALENDAR