BEGIN:VCALENDAR
VERSION:2.0
BEGIN:VEVENT
DTSTART;TZID=Europe/Stockholm:20250410T173000
DTEND;TZID=Europe/Stockholm:20250410T183000
DTSTAMP:20260420T143649
DESCRIPTION:
SEQUENCE:0
SUMMARY:Planering Vårmarknad till ca 18:30
UID:4577@lawebb.se
END:VEVENT
END:VCALENDAR