BEGIN:VCALENDAR
VERSION:2.0
BEGIN:VEVENT
DTSTART;TZID=Europe/Stockholm:20250411T190000
DTEND;TZID=Europe/Stockholm:20250411T200000
DTSTAMP:20260420T144312
DESCRIPTION:
SEQUENCE:0
SUMMARY:Tonår
UID:8849@lawebb.se
END:VEVENT
END:VCALENDAR