BEGIN:VCALENDAR
VERSION:2.0
BEGIN:VEVENT
DTSTART;TZID=Europe/Stockholm:20250412T100000
DTEND;TZID=Europe/Stockholm:20250412T110000
DTSTAMP:20260420T143928
DESCRIPTION:
SEQUENCE:0
SUMMARY:Bibelstudium
UID:8536@lawebb.se
END:VEVENT
END:VCALENDAR