BEGIN:VCALENDAR
VERSION:2.0
BEGIN:VEVENT
DTSTART;TZID=Europe/Stockholm:20250416T193000
DTEND;TZID=Europe/Stockholm:20250416T203000
DTSTAMP:20260420T144009
DESCRIPTION:Nattvard
SEQUENCE:0
SUMMARY:Bönesamling
UID:8582@lawebb.se
END:VEVENT
END:VCALENDAR