BEGIN:VCALENDAR
VERSION:2.0
BEGIN:VEVENT
DTSTART;TZID=Europe/Stockholm:20250418T160000
DTEND;TZID=Europe/Stockholm:20250418T170000
DTSTAMP:20260420T143836
DESCRIPTION:Predikan: Martin Hårsmar
Sång & Musik: Team Borg
Information/Ledning: Martin Hårsmar
SEQUENCE:0
SUMMARY:Långfredagsgudstjänst
UID:5348@lawebb.se
END:VEVENT
END:VCALENDAR