BEGIN:VCALENDAR
VERSION:2.0
BEGIN:VEVENT
DTSTART;TZID=Europe/Stockholm:20250420T100000
DTEND;TZID=Europe/Stockholm:20250420T110000
DTSTAMP:20260420T144616
DESCRIPTION:Predikan: Mikael Andersson
Ekumenisk kör framför Bengt Svenssons *Påskkantat* som avslutning
SEQUENCE:0
SUMMARY:Gudstjänst i Rävåskyrkan
UID:4937@lawebb.se
END:VEVENT
END:VCALENDAR