BEGIN:VCALENDAR
VERSION:2.0
BEGIN:VEVENT
DTSTART;TZID=Europe/Stockholm:20250420T080000
DTEND;TZID=Europe/Stockholm:20250420T090000
DTSTAMP:20260420T144744
DESCRIPTION:Inför Påskkantaten på påskdagen
SEQUENCE:0
SUMMARY:Körövning i Rävåskyrkan
UID:2562@lawebb.se
END:VEVENT
END:VCALENDAR