BEGIN:VCALENDAR
VERSION:2.0
BEGIN:VEVENT
DTSTART;TZID=Europe/Stockholm:20250422T190000
DTEND;TZID=Europe/Stockholm:20250422T200000
DTSTAMP:20260420T143920
DESCRIPTION:Planering av renoveringsarbetet i Församlingsvåningen
SEQUENCE:0
SUMMARY:Planeringsträff målning
UID:3246@lawebb.se
END:VEVENT
END:VCALENDAR