BEGIN:VCALENDAR
VERSION:2.0
BEGIN:VEVENT
DTSTART;TZID=Europe/Stockholm:20250427T160000
DTEND;TZID=Europe/Stockholm:20250427T170000
DTSTAMP:20260420T144048
DESCRIPTION:Predikan: Olof Beckman
Sång & Musik: Team Forsling
Information: Jonas Berntsson
SEQUENCE:0
SUMMARY:Gudstjänst med Söndagsskola
UID:5872@lawebb.se
END:VEVENT
END:VCALENDAR