BEGIN:VCALENDAR
VERSION:2.0
BEGIN:VEVENT
DTSTART;TZID=Europe/Stockholm:20250429T190000
DTEND;TZID=Europe/Stockholm:20250429T200000
DTSTAMP:20260420T143834
DESCRIPTION:
SEQUENCE:0
SUMMARY:Bön & Lovsång i Pingstkyrkan
UID:5932@lawebb.se
END:VEVENT
END:VCALENDAR