BEGIN:VCALENDAR
VERSION:2.0
BEGIN:VEVENT
DTSTART;TZID=Europe/Stockholm:20250504T160000
DTEND;TZID=Europe/Stockholm:20250504T170000
DTSTAMP:20260420T160404
DESCRIPTION:Extra insamling till Sociala kassan
Söndagsskola
Predikan: Martin Hårsmar
Sång & Musik: Team Öhrman
Information: Stanley Eklind
SEQUENCE:0
SUMMARY:Gudstjänst med Nattvard
UID:3472@lawebb.se
END:VEVENT
END:VCALENDAR