BEGIN:VCALENDAR
VERSION:2.0
BEGIN:VEVENT
DTSTART;TZID=Europe/Stockholm:20250507T193000
DTEND;TZID=Europe/Stockholm:20250507T203000
DTSTAMP:20260420T160612
DESCRIPTION:Öppen kyrka från kl 18
SEQUENCE:0
SUMMARY:Bön i kyrkan
UID:3832@lawebb.se
END:VEVENT
END:VCALENDAR