BEGIN:VCALENDAR
VERSION:2.0
BEGIN:VEVENT
DTSTART;TZID=Europe/Stockholm:20250510T100000
DTEND;TZID=Europe/Stockholm:20250510T110000
DTSTAMP:20260420T160546
DESCRIPTION:
SEQUENCE:0
SUMMARY:Bibelstudium
UID:8846@lawebb.se
END:VEVENT
END:VCALENDAR