BEGIN:VCALENDAR
VERSION:2.0
BEGIN:VEVENT
DTSTART;TZID=Europe/Stockholm:20250510T170000
DTEND;TZID=Europe/Stockholm:20250510T180000
DTSTAMP:20260420T161030
DESCRIPTION:*Hälsosamma relationer och kommunikation*
Äktenskap, föräldraskap och i församlingen
Talare: Christine Viklund
17:00 Seminarium
18:00 Middag
19:00 Kvällsmöte

Tillsammans med Pingst- och Rävåskyrkan
SEQUENCE:0
SUMMARY:Seminariehelg i Pingstkyrkan
UID:6933@lawebb.se
END:VEVENT
END:VCALENDAR