BEGIN:VCALENDAR
VERSION:2.0
BEGIN:VEVENT
DTSTART;TZID=Europe/Stockholm:20250511T110000
DTEND;TZID=Europe/Stockholm:20250511T120000
DTSTAMP:20260420T160707
DESCRIPTION:Söndagsskola!
*Hälsosamma relationer med Gud, oss själva och andra*
-Vad får oss att tappa bort oss själva i en relation och hur hittar vi tillbaka?
Talare: Christine Viklund
SEQUENCE:0
SUMMARY:Gudstjänst i Pingstkyrkan. OBS tid och plats!
UID:3336@lawebb.se
END:VEVENT
END:VCALENDAR